BEGIN:VCALENDAR
VERSION:2.0
PRODID:-//TYPO3/NONSGML News system (news)//EN
BEGIN:VEVENT
UID:news-3207@josef-schwarz-schule.phorms.de
DTSTAMP:20260421T111405
DTSTART:20260512T183000
DTEND:20260512T200000
X-MICROSOFT-CDO-ALLDAYEVENT: TRUE
X-MICROSOFT-MSNCALENDAR_ALLDAYEVENT: TRUE
SUMMARY:Online-Infoabend College
END:VEVENT
END:VCALENDAR